BEGIN:VCALENDAR
VERSION:2.0
PRODID:-//RA MA LIFE - ECPv6.15.15//NONSGML v1.0//EN
CALSCALE:GREGORIAN
METHOD:PUBLISH
X-ORIGINAL-URL:https://ramayogainstitute.com
X-WR-CALDESC:Events for RA MA LIFE
REFRESH-INTERVAL;VALUE=DURATION:PT1H
X-Robots-Tag:noindex
X-PUBLISHED-TTL:PT1H
BEGIN:VTIMEZONE
TZID:America/Los_Angeles
BEGIN:DAYLIGHT
TZOFFSETFROM:-0800
TZOFFSETTO:-0700
TZNAME:PDT
DTSTART:20210314T100000
END:DAYLIGHT
BEGIN:STANDARD
TZOFFSETFROM:-0700
TZOFFSETTO:-0800
TZNAME:PST
DTSTART:20211107T090000
END:STANDARD
BEGIN:DAYLIGHT
TZOFFSETFROM:-0800
TZOFFSETTO:-0700
TZNAME:PDT
DTSTART:20220313T100000
END:DAYLIGHT
BEGIN:STANDARD
TZOFFSETFROM:-0700
TZOFFSETTO:-0800
TZNAME:PST
DTSTART:20221106T090000
END:STANDARD
BEGIN:DAYLIGHT
TZOFFSETFROM:-0800
TZOFFSETTO:-0700
TZNAME:PDT
DTSTART:20230312T100000
END:DAYLIGHT
BEGIN:STANDARD
TZOFFSETFROM:-0700
TZOFFSETTO:-0800
TZNAME:PST
DTSTART:20231105T090000
END:STANDARD
END:VTIMEZONE
BEGIN:VEVENT
DTSTART;TZID=America/Los_Angeles:20220930T090000
DTEND;TZID=America/Los_Angeles:20220930T103000
DTSTAMP:20260422T090828
CREATED:20220326T233512Z
LAST-MODIFIED:20221028T064013Z
UID:1709699-1664528400-1664533800@ramayogainstitute.com
SUMMARY:Kundalini Yoga & Meditation with Nathan Hirschaut
DESCRIPTION:Nathan Hirschaut is a filmmaker and spiritual guide who hails from Santa Cruz\, Ca. Nathan grew up as an acclaimed competitive dancer and attended The Juilliard School for Dance from 2016-2020.\nAfter graduation\, Nathan’s started creating films that have been seen and\nawarded at; Film at Lincoln Center\, Dance Camera West\, Dance on Film\, Idaho Screen-Dance Film Festival\, San Fransisco Dance Film Festival\, Dallas Dance Film Festival\, as well as featured in NPR\, The LA Post\, and The Washington Times. When not writing or directing Nathan teaches Healing Movement\, Kundalini Yoga\, and Creative Coaching around the world. \nTUNE IN
URL:https://ramayogainstitute.com/event/kundalini-yoga-meditation-with-mandev-6-2022-05-12-2022-05-19-2022-09-14-2022-09-30/2022-09-30/
LOCATION:Online
CATEGORIES:In Person,RA MA TV Live
ATTACH;FMTTYPE=image/jpeg:https://ramayogainstitute.com/wp-content/uploads/2022/03/Screen-Shot-2022-09-25-at-6.47.12-PM.jpg
END:VEVENT
END:VCALENDAR