BEGIN:VCALENDAR
VERSION:2.0
PRODID:-//RA MA LIFE - ECPv6.15.15//NONSGML v1.0//EN
CALSCALE:GREGORIAN
METHOD:PUBLISH
X-WR-CALNAME:RA MA LIFE
X-ORIGINAL-URL:https://ramayogainstitute.com
X-WR-CALDESC:Events for RA MA LIFE
REFRESH-INTERVAL;VALUE=DURATION:PT1H
X-Robots-Tag:noindex
X-PUBLISHED-TTL:PT1H
BEGIN:VTIMEZONE
TZID:America/Los_Angeles
BEGIN:DAYLIGHT
TZOFFSETFROM:-0800
TZOFFSETTO:-0700
TZNAME:PDT
DTSTART:20220313T100000
END:DAYLIGHT
BEGIN:STANDARD
TZOFFSETFROM:-0700
TZOFFSETTO:-0800
TZNAME:PST
DTSTART:20221106T090000
END:STANDARD
BEGIN:DAYLIGHT
TZOFFSETFROM:-0800
TZOFFSETTO:-0700
TZNAME:PDT
DTSTART:20230312T100000
END:DAYLIGHT
BEGIN:STANDARD
TZOFFSETFROM:-0700
TZOFFSETTO:-0800
TZNAME:PST
DTSTART:20231105T090000
END:STANDARD
BEGIN:DAYLIGHT
TZOFFSETFROM:-0800
TZOFFSETTO:-0700
TZNAME:PDT
DTSTART:20240310T100000
END:DAYLIGHT
BEGIN:STANDARD
TZOFFSETFROM:-0700
TZOFFSETTO:-0800
TZNAME:PST
DTSTART:20241103T090000
END:STANDARD
END:VTIMEZONE
BEGIN:VEVENT
DTSTART;TZID=America/Los_Angeles:20230330T090000
DTEND;TZID=America/Los_Angeles:20230330T103000
DTSTAMP:20260423T033256
CREATED:20230326T183348Z
LAST-MODIFIED:20230326T183348Z
UID:1783850-1680166800-1680172200@ramayogainstitute.com
SUMMARY:Kundalini Yoga & Meditation with Dr. Siri Shakti
DESCRIPTION:TUNE IN\nI am a family physician who hails from Baton Rouge\, Louisiana and grew up here in South Central Los Angeles. It is my honor to teach Kundalini Yoga\, a technology I was introduced to by my acupuncturist when I was 18. I was given a video tape and it became my cure all for all that ailed me: panic attacks\, anxiety over medical school interviews\, depression from a failed love relationship\, etc. \nFast forward years later\, at age 30-something\, I took my first live Kundalini Yoga class. Now\, I teach Kundalini Yoga because it’s the best thing I know about and it’s still my cure all. Everything in my life has changed for the better and I humbly share these teachings because I know that everyone can benefit from this wisdom. Come to a class to let all that does not serve you fall away and to turn the light onto all that is true and authentic about YOU.
URL:https://ramayogainstitute.com/event/kundalini-yoga-meditation-with-dr-siri-shakti/2023-03-30/
LOCATION:Online
CATEGORIES:In Person,RA MA TV Live
ATTACH;FMTTYPE=image/jpeg:https://ramayogainstitute.com/wp-content/uploads/2022/02/Siri-Shakti-.jpeg
END:VEVENT
END:VCALENDAR