BEGIN:VCALENDAR
VERSION:2.0
PRODID:-//RA MA LIFE - ECPv6.15.15//NONSGML v1.0//EN
CALSCALE:GREGORIAN
METHOD:PUBLISH
X-WR-CALNAME:RA MA LIFE
X-ORIGINAL-URL:https://ramayogainstitute.com
X-WR-CALDESC:Events for RA MA LIFE
REFRESH-INTERVAL;VALUE=DURATION:PT1H
X-Robots-Tag:noindex
X-PUBLISHED-TTL:PT1H
BEGIN:VTIMEZONE
TZID:America/Los_Angeles
BEGIN:DAYLIGHT
TZOFFSETFROM:-0800
TZOFFSETTO:-0700
TZNAME:PDT
DTSTART:20220313T100000
END:DAYLIGHT
BEGIN:STANDARD
TZOFFSETFROM:-0700
TZOFFSETTO:-0800
TZNAME:PST
DTSTART:20221106T090000
END:STANDARD
BEGIN:DAYLIGHT
TZOFFSETFROM:-0800
TZOFFSETTO:-0700
TZNAME:PDT
DTSTART:20230312T100000
END:DAYLIGHT
BEGIN:STANDARD
TZOFFSETFROM:-0700
TZOFFSETTO:-0800
TZNAME:PST
DTSTART:20231105T090000
END:STANDARD
BEGIN:DAYLIGHT
TZOFFSETFROM:-0800
TZOFFSETTO:-0700
TZNAME:PDT
DTSTART:20240310T100000
END:DAYLIGHT
BEGIN:STANDARD
TZOFFSETFROM:-0700
TZOFFSETTO:-0800
TZNAME:PST
DTSTART:20241103T090000
END:STANDARD
END:VTIMEZONE
BEGIN:VEVENT
DTSTART;TZID=America/Los_Angeles:20231204T143000
DTEND;TZID=America/Los_Angeles:20231204T153000
DTSTAMP:20260422T072113
CREATED:20230924T235557Z
LAST-MODIFIED:20231204T230146Z
UID:1860132-1701700200-1701703800@ramayogainstitute.com
SUMMARY:INCREASE YOUR PRANA| Kundalini Yoga & Meditation with Seva Jagat
DESCRIPTION:TUNE IN VIRTUALLY\nOR \nIN PERSON\nMONDAYS  | 5:30-6:30 EDT\nVirtually on RA MA TV Live\nIn Person @ RA MA New York \nAbout Seva Jagat \nSeva Jagat is an Independent Photographer from Puerto Rico\, he worked and travelled with Guru Jagat and the RA MA Global Crew since he arrived to Venice\, California. Becoming Guru Jagat’s Iconic and personal photographer\, her passion for the Kundalini Technology and the Teachings of Yogi Bhajan\, promptly had him teaching in both English and Spanish\, launching You Tube Channels and traveling the World as private teacher for celebrities. \nWhen he is not teaching or filming at the RA MA New York Studio you can catch him surfing\, skating or at an art gallery where probably some of his Photographs are part of it. \n@sevajagat
URL:https://ramayogainstitute.com/event/kundalini-yoga-mediation-with-seva-jagat-2-2023-12-04/2023-12-04/
LOCATION:RA MA Intitute New York and online
CATEGORIES:In Person,RA MA TV Live
ATTACH;FMTTYPE=image/jpeg:https://ramayogainstitute.com/wp-content/uploads/2023/09/Seva-Jagat-Plane.jpg
END:VEVENT
END:VCALENDAR