BEGIN:VCALENDAR
VERSION:2.0
PRODID:-//RA MA LIFE - ECPv6.15.15//NONSGML v1.0//EN
CALSCALE:GREGORIAN
METHOD:PUBLISH
X-WR-CALNAME:RA MA LIFE
X-ORIGINAL-URL:https://ramayogainstitute.com
X-WR-CALDESC:Events for RA MA LIFE
REFRESH-INTERVAL;VALUE=DURATION:PT1H
X-Robots-Tag:noindex
X-PUBLISHED-TTL:PT1H
BEGIN:VTIMEZONE
TZID:America/Los_Angeles
BEGIN:DAYLIGHT
TZOFFSETFROM:-0800
TZOFFSETTO:-0700
TZNAME:PDT
DTSTART:20250309T100000
END:DAYLIGHT
BEGIN:STANDARD
TZOFFSETFROM:-0700
TZOFFSETTO:-0800
TZNAME:PST
DTSTART:20251102T090000
END:STANDARD
BEGIN:DAYLIGHT
TZOFFSETFROM:-0800
TZOFFSETTO:-0700
TZNAME:PDT
DTSTART:20260308T100000
END:DAYLIGHT
BEGIN:STANDARD
TZOFFSETFROM:-0700
TZOFFSETTO:-0800
TZNAME:PST
DTSTART:20261101T090000
END:STANDARD
BEGIN:DAYLIGHT
TZOFFSETFROM:-0800
TZOFFSETTO:-0700
TZNAME:PDT
DTSTART:20270314T100000
END:DAYLIGHT
BEGIN:STANDARD
TZOFFSETFROM:-0700
TZOFFSETTO:-0800
TZNAME:PST
DTSTART:20271107T090000
END:STANDARD
END:VTIMEZONE
BEGIN:VEVENT
DTSTART;TZID=America/Los_Angeles:20260810T003000
DTEND;TZID=America/Los_Angeles:20260810T020000
DTSTAMP:20260421T192529
CREATED:20241107T043700Z
LAST-MODIFIED:20241107T043700Z
UID:2010577-1786321800-1786327200@ramayogainstitute.com
SUMMARY:KUNDALINI YOGA & MEDITATION
DESCRIPTION:
URL:https://ramayogainstitute.com/event/kundalini-yoga-and-meditation-with-magdalena-3/2026-08-10/
LOCATION:Online on RA MA TV
CATEGORIES:In Person,RA MA TV Live
ATTACH;FMTTYPE=image/jpeg:https://ramayogainstitute.com/wp-content/uploads/2024/11/teg_prakash_AWAKEN_thumb_2.jpg
END:VEVENT
BEGIN:VEVENT
DTSTART;TZID=America/Los_Angeles:20260817T003000
DTEND;TZID=America/Los_Angeles:20260817T020000
DTSTAMP:20260421T192529
CREATED:20241107T043700Z
LAST-MODIFIED:20241107T043700Z
UID:2011099-1786926600-1786932000@ramayogainstitute.com
SUMMARY:KUNDALINI YOGA & MEDITATION
DESCRIPTION:
URL:https://ramayogainstitute.com/event/kundalini-yoga-and-meditation-with-magdalena-3/2026-08-17/
LOCATION:Online on RA MA TV
CATEGORIES:In Person,RA MA TV Live
ATTACH;FMTTYPE=image/jpeg:https://ramayogainstitute.com/wp-content/uploads/2024/11/teg_prakash_AWAKEN_thumb_2.jpg
END:VEVENT
BEGIN:VEVENT
DTSTART;TZID=America/Los_Angeles:20260824T003000
DTEND;TZID=America/Los_Angeles:20260824T020000
DTSTAMP:20260421T192529
CREATED:20241107T043700Z
LAST-MODIFIED:20241107T043700Z
UID:2012134-1787531400-1787536800@ramayogainstitute.com
SUMMARY:KUNDALINI YOGA & MEDITATION
DESCRIPTION:
URL:https://ramayogainstitute.com/event/kundalini-yoga-and-meditation-with-magdalena-3/2026-08-24/
LOCATION:Online on RA MA TV
CATEGORIES:In Person,RA MA TV Live
ATTACH;FMTTYPE=image/jpeg:https://ramayogainstitute.com/wp-content/uploads/2024/11/teg_prakash_AWAKEN_thumb_2.jpg
END:VEVENT
BEGIN:VEVENT
DTSTART;TZID=America/Los_Angeles:20260831T003000
DTEND;TZID=America/Los_Angeles:20260831T020000
DTSTAMP:20260421T192529
CREATED:20241107T043700Z
LAST-MODIFIED:20241107T043700Z
UID:2012397-1788136200-1788141600@ramayogainstitute.com
SUMMARY:KUNDALINI YOGA & MEDITATION
DESCRIPTION:
URL:https://ramayogainstitute.com/event/kundalini-yoga-and-meditation-with-magdalena-3/2026-08-31/
LOCATION:Online on RA MA TV
CATEGORIES:In Person,RA MA TV Live
ATTACH;FMTTYPE=image/jpeg:https://ramayogainstitute.com/wp-content/uploads/2024/11/teg_prakash_AWAKEN_thumb_2.jpg
END:VEVENT
BEGIN:VEVENT
DTSTART;TZID=America/Los_Angeles:20260907T003000
DTEND;TZID=America/Los_Angeles:20260907T020000
DTSTAMP:20260421T192529
CREATED:20241107T043700Z
LAST-MODIFIED:20241107T043700Z
UID:2013367-1788741000-1788746400@ramayogainstitute.com
SUMMARY:KUNDALINI YOGA & MEDITATION
DESCRIPTION:
URL:https://ramayogainstitute.com/event/kundalini-yoga-and-meditation-with-magdalena-3/2026-09-07/
LOCATION:Online on RA MA TV
CATEGORIES:In Person,RA MA TV Live
ATTACH;FMTTYPE=image/jpeg:https://ramayogainstitute.com/wp-content/uploads/2024/11/teg_prakash_AWAKEN_thumb_2.jpg
END:VEVENT
BEGIN:VEVENT
DTSTART;TZID=America/Los_Angeles:20260914T003000
DTEND;TZID=America/Los_Angeles:20260914T020000
DTSTAMP:20260421T192529
CREATED:20241107T043700Z
LAST-MODIFIED:20241107T043700Z
UID:2014211-1789345800-1789351200@ramayogainstitute.com
SUMMARY:KUNDALINI YOGA & MEDITATION
DESCRIPTION:
URL:https://ramayogainstitute.com/event/kundalini-yoga-and-meditation-with-magdalena-3/2026-09-14/
LOCATION:Online on RA MA TV
CATEGORIES:In Person,RA MA TV Live
ATTACH;FMTTYPE=image/jpeg:https://ramayogainstitute.com/wp-content/uploads/2024/11/teg_prakash_AWAKEN_thumb_2.jpg
END:VEVENT
BEGIN:VEVENT
DTSTART;TZID=America/Los_Angeles:20260921T003000
DTEND;TZID=America/Los_Angeles:20260921T020000
DTSTAMP:20260421T192529
CREATED:20241107T043700Z
LAST-MODIFIED:20241107T043700Z
UID:2015162-1789950600-1789956000@ramayogainstitute.com
SUMMARY:KUNDALINI YOGA & MEDITATION
DESCRIPTION:
URL:https://ramayogainstitute.com/event/kundalini-yoga-and-meditation-with-magdalena-3/2026-09-21/
LOCATION:Online on RA MA TV
CATEGORIES:In Person,RA MA TV Live
ATTACH;FMTTYPE=image/jpeg:https://ramayogainstitute.com/wp-content/uploads/2024/11/teg_prakash_AWAKEN_thumb_2.jpg
END:VEVENT
BEGIN:VEVENT
DTSTART;TZID=America/Los_Angeles:20260928T003000
DTEND;TZID=America/Los_Angeles:20260928T020000
DTSTAMP:20260421T192529
CREATED:20241107T043700Z
LAST-MODIFIED:20241107T043700Z
UID:2015768-1790555400-1790560800@ramayogainstitute.com
SUMMARY:KUNDALINI YOGA & MEDITATION
DESCRIPTION:
URL:https://ramayogainstitute.com/event/kundalini-yoga-and-meditation-with-magdalena-3/2026-09-28/
LOCATION:Online on RA MA TV
CATEGORIES:In Person,RA MA TV Live
ATTACH;FMTTYPE=image/jpeg:https://ramayogainstitute.com/wp-content/uploads/2024/11/teg_prakash_AWAKEN_thumb_2.jpg
END:VEVENT
BEGIN:VEVENT
DTSTART;TZID=America/Los_Angeles:20261005T003000
DTEND;TZID=America/Los_Angeles:20261005T020000
DTSTAMP:20260421T192529
CREATED:20241107T043700Z
LAST-MODIFIED:20241107T043700Z
UID:2016217-1791160200-1791165600@ramayogainstitute.com
SUMMARY:KUNDALINI YOGA & MEDITATION
DESCRIPTION:
URL:https://ramayogainstitute.com/event/kundalini-yoga-and-meditation-with-magdalena-3/2026-10-05/
LOCATION:Online on RA MA TV
CATEGORIES:In Person,RA MA TV Live
ATTACH;FMTTYPE=image/jpeg:https://ramayogainstitute.com/wp-content/uploads/2024/11/teg_prakash_AWAKEN_thumb_2.jpg
END:VEVENT
BEGIN:VEVENT
DTSTART;TZID=America/Los_Angeles:20261012T003000
DTEND;TZID=America/Los_Angeles:20261012T020000
DTSTAMP:20260421T192529
CREATED:20241107T043700Z
LAST-MODIFIED:20241107T043700Z
UID:2017442-1791765000-1791770400@ramayogainstitute.com
SUMMARY:KUNDALINI YOGA & MEDITATION
DESCRIPTION:
URL:https://ramayogainstitute.com/event/kundalini-yoga-and-meditation-with-magdalena-3/2026-10-12/
LOCATION:Online on RA MA TV
CATEGORIES:In Person,RA MA TV Live
ATTACH;FMTTYPE=image/jpeg:https://ramayogainstitute.com/wp-content/uploads/2024/11/teg_prakash_AWAKEN_thumb_2.jpg
END:VEVENT
BEGIN:VEVENT
DTSTART;TZID=America/Los_Angeles:20261019T003000
DTEND;TZID=America/Los_Angeles:20261019T020000
DTSTAMP:20260421T192529
CREATED:20241107T043700Z
LAST-MODIFIED:20241107T043700Z
UID:2018851-1792369800-1792375200@ramayogainstitute.com
SUMMARY:KUNDALINI YOGA & MEDITATION
DESCRIPTION:
URL:https://ramayogainstitute.com/event/kundalini-yoga-and-meditation-with-magdalena-3/2026-10-19/
LOCATION:Online on RA MA TV
CATEGORIES:In Person,RA MA TV Live
ATTACH;FMTTYPE=image/jpeg:https://ramayogainstitute.com/wp-content/uploads/2024/11/teg_prakash_AWAKEN_thumb_2.jpg
END:VEVENT
END:VCALENDAR