BEGIN:VCALENDAR
VERSION:2.0
PRODID:-//RA MA LIFE - ECPv6.15.15//NONSGML v1.0//EN
CALSCALE:GREGORIAN
METHOD:PUBLISH
X-WR-CALNAME:RA MA LIFE
X-ORIGINAL-URL:https://ramayogainstitute.com
X-WR-CALDESC:Events for RA MA LIFE
REFRESH-INTERVAL;VALUE=DURATION:PT1H
X-Robots-Tag:noindex
X-PUBLISHED-TTL:PT1H
BEGIN:VTIMEZONE
TZID:America/Los_Angeles
BEGIN:DAYLIGHT
TZOFFSETFROM:-0800
TZOFFSETTO:-0700
TZNAME:PDT
DTSTART:20210314T100000
END:DAYLIGHT
BEGIN:STANDARD
TZOFFSETFROM:-0700
TZOFFSETTO:-0800
TZNAME:PST
DTSTART:20211107T090000
END:STANDARD
BEGIN:DAYLIGHT
TZOFFSETFROM:-0800
TZOFFSETTO:-0700
TZNAME:PDT
DTSTART:20220313T100000
END:DAYLIGHT
BEGIN:STANDARD
TZOFFSETFROM:-0700
TZOFFSETTO:-0800
TZNAME:PST
DTSTART:20221106T090000
END:STANDARD
BEGIN:DAYLIGHT
TZOFFSETFROM:-0800
TZOFFSETTO:-0700
TZNAME:PDT
DTSTART:20230312T100000
END:DAYLIGHT
BEGIN:STANDARD
TZOFFSETFROM:-0700
TZOFFSETTO:-0800
TZNAME:PST
DTSTART:20231105T090000
END:STANDARD
END:VTIMEZONE
BEGIN:VEVENT
DTSTART;TZID=America/Los_Angeles:20220914T090000
DTEND;TZID=America/Los_Angeles:20220914T180000
DTSTAMP:20260422T045725
CREATED:20220909T014412Z
LAST-MODIFIED:20220909T055431Z
UID:1737443-1663146000-1663178400@ramayogainstitute.com
SUMMARY:Kundalini Training: The Meditative Mind
DESCRIPTION:LEARN MORE & SIGN UP \nwith Harijiwan\, Tej\, Gurujas\, Mandev & Shabadpreet \n\n\n\n\nIn-Person at RA MA Los Angeles + Live Streaming on RA MA TV \n\n\n\nThe mind exists in service to your soul.\nIn the yogic scriptures\, the soul is accompanied on its journey from the Infinite through the creation of the mind. \nYou have three minds.\nThe Negative Mind protects you.\nThe Positive Mind searches for possibilities and fulfillment.\nThe Neutral Mind reflects\, it is the space of the Meditative Mind. \nEach yogi sets out on a quest to experience the Meditative Mind.\nEvery person has a distance they need to cross to fulfill their destiny. \nHappiness\, success\, and perpetual prosperity comes to the yogis who master the Meditative Mind. \n\n\n\n\n\n\nThis five-day Kundalini Training will give you an experiential understanding of a stillness\, a crystalline clarity\, alive in your own Meditative Mind’s infinite horizon. Gain new energy\, a constellation of sophisticated subtle patterns\, freedom from illusion\, momentum on your soul’s timeless progression. \n\n\n\n\n 
URL:https://ramayogainstitute.com/event/kundalini-training-the-meditative-mind/2022-09-14/
LOCATION:Online
CATEGORIES:Courses & Events,In Person
ATTACH;FMTTYPE=image/jpeg:https://ramayogainstitute.com/wp-content/uploads/2022/09/Snowy-Mountain-Icy-Water.jpg
END:VEVENT
END:VCALENDAR