BEGIN:VCALENDAR
VERSION:2.0
PRODID:-//RA MA LIFE - ECPv6.15.15//NONSGML v1.0//EN
CALSCALE:GREGORIAN
METHOD:PUBLISH
X-WR-CALNAME:RA MA LIFE
X-ORIGINAL-URL:https://ramayogainstitute.com
X-WR-CALDESC:Events for RA MA LIFE
REFRESH-INTERVAL;VALUE=DURATION:PT1H
X-Robots-Tag:noindex
X-PUBLISHED-TTL:PT1H
BEGIN:VTIMEZONE
TZID:America/Los_Angeles
BEGIN:DAYLIGHT
TZOFFSETFROM:-0800
TZOFFSETTO:-0700
TZNAME:PDT
DTSTART:20220313T100000
END:DAYLIGHT
BEGIN:STANDARD
TZOFFSETFROM:-0700
TZOFFSETTO:-0800
TZNAME:PST
DTSTART:20221106T090000
END:STANDARD
BEGIN:DAYLIGHT
TZOFFSETFROM:-0800
TZOFFSETTO:-0700
TZNAME:PDT
DTSTART:20230312T100000
END:DAYLIGHT
BEGIN:STANDARD
TZOFFSETFROM:-0700
TZOFFSETTO:-0800
TZNAME:PST
DTSTART:20231105T090000
END:STANDARD
BEGIN:DAYLIGHT
TZOFFSETFROM:-0800
TZOFFSETTO:-0700
TZNAME:PDT
DTSTART:20240310T100000
END:DAYLIGHT
BEGIN:STANDARD
TZOFFSETFROM:-0700
TZOFFSETTO:-0800
TZNAME:PST
DTSTART:20241103T090000
END:STANDARD
END:VTIMEZONE
BEGIN:VEVENT
DTSTART;TZID=America/Los_Angeles:20231227T190000
DTEND;TZID=America/Los_Angeles:20231227T203000
DTSTAMP:20260422T093738
CREATED:20231220T184428Z
LAST-MODIFIED:20231220T184656Z
UID:1881447-1703703600-1703709000@ramayogainstitute.com
SUMMARY:HOLIDAY CLEANSE| Kundalini Yoga & Meditation with Harmanjot
DESCRIPTION:TUNE IN \nHarmanjot began practicing\, studying and teaching Kundalini yoga in 2008 when she met her teacher Guru Jagat. She worked side by side with Guru Jagat until her passing in August 2021. During this time\, Harmanjot was instrumental to opening and growing the three RA MA Institutes (Los Angeles\, New York City\, Palma de Mallorca)\, and developing the creative programming that made RA MA the unique blend of sacred and secular it became known for. With Guru Jagat’s passing\, Harmanjot’s destiny has called her to continue the mission they worked so closely on together.\nHarmanjot has partnered with top brands to teach yoga and meditation. She is newly contracted with L’Oréal USA as an astrologer to their corporate team. For her client list\, which includes Academy Award winners\, Golden Globe nominees\, executives\, artists\, tastemakers and individuals of all walks of life\, Harmanjot offers private yoga\, meditation and various levels of astrology readings. Taking a page from her teacher’s book\, Harmanjot is soon to launch her wellness-lifestyle brand aimed at carrying the majestic teachings of Kundalini yoga with fidelity and modernism\, empowering the every-woman\, expanding magic in the world\, and living with irreverence.
URL:https://ramayogainstitute.com/event/holiday-cleanse-kundalini-yoga-meditation-with-harmanjot/2023-12-27/
LOCATION:Online
CATEGORIES:In Person,RA MA TV Live
ATTACH;FMTTYPE=image/jpeg:https://ramayogainstitute.com/wp-content/uploads/2022/05/Harmanjot-5.9.22.jpg
END:VEVENT
END:VCALENDAR