BEGIN:VCALENDAR
VERSION:2.0
PRODID:-//RA MA LIFE - ECPv6.15.15//NONSGML v1.0//EN
CALSCALE:GREGORIAN
METHOD:PUBLISH
X-ORIGINAL-URL:https://ramayogainstitute.com
X-WR-CALDESC:Events for RA MA LIFE
REFRESH-INTERVAL;VALUE=DURATION:PT1H
X-Robots-Tag:noindex
X-PUBLISHED-TTL:PT1H
BEGIN:VTIMEZONE
TZID:America/Los_Angeles
BEGIN:DAYLIGHT
TZOFFSETFROM:-0800
TZOFFSETTO:-0700
TZNAME:PDT
DTSTART:20220313T100000
END:DAYLIGHT
BEGIN:STANDARD
TZOFFSETFROM:-0700
TZOFFSETTO:-0800
TZNAME:PST
DTSTART:20221106T090000
END:STANDARD
BEGIN:DAYLIGHT
TZOFFSETFROM:-0800
TZOFFSETTO:-0700
TZNAME:PDT
DTSTART:20230312T100000
END:DAYLIGHT
BEGIN:STANDARD
TZOFFSETFROM:-0700
TZOFFSETTO:-0800
TZNAME:PST
DTSTART:20231105T090000
END:STANDARD
BEGIN:DAYLIGHT
TZOFFSETFROM:-0800
TZOFFSETTO:-0700
TZNAME:PDT
DTSTART:20240310T100000
END:DAYLIGHT
BEGIN:STANDARD
TZOFFSETFROM:-0700
TZOFFSETTO:-0800
TZNAME:PST
DTSTART:20241103T090000
END:STANDARD
END:VTIMEZONE
BEGIN:VEVENT
DTSTART;TZID=America/Los_Angeles:20230224T173000
DTEND;TZID=America/Los_Angeles:20230224T184500
DTSTAMP:20260423T003316
CREATED:20230214T225947Z
LAST-MODIFIED:20230304T015951Z
UID:1773538-1677259800-1677264300@ramayogainstitute.com
SUMMARY:EXCEL with Atma Santokh
DESCRIPTION:TUNE IN\nYou can win at life. You can win in every moment. You can choose your brightest destiny. Prep your mind body system to excel with Kundalini Yoga & Meditation\, taught lovingly by Atma Santokh. \nSpending time with Atma Santokh is an invitation into joyful integration of the vast perfection of Spirit into this faceted human vehicle\, arriving home in rich and rising expression Me. Experience challenging mudras\, deep mantra selections\, and transformative meditation experiences with practical\, engaging\, and down-to-earth verbiage to express the deep love he has for\, and practical application of\, the Kundalini Yoga teachings and techniques.
URL:https://ramayogainstitute.com/event/excel-with-atma-santokh-3/2023-02-24/
LOCATION:Online
CATEGORIES:In Person,RA MA TV Live
ATTACH;FMTTYPE=image/jpeg:https://ramayogainstitute.com/wp-content/uploads/2022/12/Elevated-Aliveness-Atma-Santokh-Bundle-Banner.jpg
END:VEVENT
END:VCALENDAR