BEGIN:VCALENDAR
VERSION:2.0
PRODID:-//RA MA LIFE - ECPv6.15.15//NONSGML v1.0//EN
CALSCALE:GREGORIAN
METHOD:PUBLISH
X-ORIGINAL-URL:https://ramayogainstitute.com
X-WR-CALDESC:Events for RA MA LIFE
REFRESH-INTERVAL;VALUE=DURATION:PT1H
X-Robots-Tag:noindex
X-PUBLISHED-TTL:PT1H
BEGIN:VTIMEZONE
TZID:America/Los_Angeles
BEGIN:DAYLIGHT
TZOFFSETFROM:-0800
TZOFFSETTO:-0700
TZNAME:PDT
DTSTART:20220313T100000
END:DAYLIGHT
BEGIN:STANDARD
TZOFFSETFROM:-0700
TZOFFSETTO:-0800
TZNAME:PST
DTSTART:20221106T090000
END:STANDARD
BEGIN:DAYLIGHT
TZOFFSETFROM:-0800
TZOFFSETTO:-0700
TZNAME:PDT
DTSTART:20230312T100000
END:DAYLIGHT
BEGIN:STANDARD
TZOFFSETFROM:-0700
TZOFFSETTO:-0800
TZNAME:PST
DTSTART:20231105T090000
END:STANDARD
BEGIN:DAYLIGHT
TZOFFSETFROM:-0800
TZOFFSETTO:-0700
TZNAME:PDT
DTSTART:20240310T100000
END:DAYLIGHT
BEGIN:STANDARD
TZOFFSETFROM:-0700
TZOFFSETTO:-0800
TZNAME:PST
DTSTART:20241103T090000
END:STANDARD
END:VTIMEZONE
BEGIN:VEVENT
DTSTART;TZID=America/Los_Angeles:20231124T060000
DTEND;TZID=America/Los_Angeles:20231124T073000
DTSTAMP:20260422T074950
CREATED:20231115T183350Z
LAST-MODIFIED:20231115T183350Z
UID:1869998-1700805600-1700811000@ramayogainstitute.com
SUMMARY:COMPASS FOR COMPASSION| Kundalini Yoga & Meditation with Melissa Wu
DESCRIPTION:TUNE IN\nInspired by the 4-Immeasurables (Immeasurable love\, Immeasurable compassion\, Immeasurable joy and Immeasurable equanimity) in Tibetan Buddhism\, a heart focused series to open the heart chakra to find our way back to deep compassion\, happiness\, serenity and peace and recover our ability to love.  \n  \nMay all beings have happiness and the cause of happiness. \nMay they be free of suffering and the cause of suffering. \nMay they never be disassociated from the supreme happiness which is without suffering. \nMay they remain in the boundless equanimity\, free from both attachment to close ones and rejection of others. \n 
URL:https://ramayogainstitute.com/event/compass-for-compassion-kundalini-yoga-meditation-with-melissa-wu-2/2023-11-24/
LOCATION:RA MA Intitute New York and online
CATEGORIES:In Person,RA MA TV Live
ATTACH;FMTTYPE=image/jpeg:https://ramayogainstitute.com/wp-content/uploads/2023/11/Melissa-Wu.jpeg
END:VEVENT
END:VCALENDAR