BEGIN:VCALENDAR
VERSION:2.0
PRODID:-//RA MA LIFE - ECPv6.15.15//NONSGML v1.0//EN
CALSCALE:GREGORIAN
METHOD:PUBLISH
X-WR-CALNAME:RA MA LIFE
X-ORIGINAL-URL:https://ramayogainstitute.com
X-WR-CALDESC:Events for RA MA LIFE
REFRESH-INTERVAL;VALUE=DURATION:PT1H
X-Robots-Tag:noindex
X-PUBLISHED-TTL:PT1H
BEGIN:VTIMEZONE
TZID:America/Los_Angeles
BEGIN:DAYLIGHT
TZOFFSETFROM:-0800
TZOFFSETTO:-0700
TZNAME:PDT
DTSTART:20230312T100000
END:DAYLIGHT
BEGIN:STANDARD
TZOFFSETFROM:-0700
TZOFFSETTO:-0800
TZNAME:PST
DTSTART:20231105T090000
END:STANDARD
BEGIN:DAYLIGHT
TZOFFSETFROM:-0800
TZOFFSETTO:-0700
TZNAME:PDT
DTSTART:20240310T100000
END:DAYLIGHT
BEGIN:STANDARD
TZOFFSETFROM:-0700
TZOFFSETTO:-0800
TZNAME:PST
DTSTART:20241103T090000
END:STANDARD
BEGIN:DAYLIGHT
TZOFFSETFROM:-0800
TZOFFSETTO:-0700
TZNAME:PDT
DTSTART:20250309T100000
END:DAYLIGHT
BEGIN:STANDARD
TZOFFSETFROM:-0700
TZOFFSETTO:-0800
TZNAME:PST
DTSTART:20251102T090000
END:STANDARD
END:VTIMEZONE
BEGIN:VEVENT
DTSTART;TZID=America/Los_Angeles:20240110T173000
DTEND;TZID=America/Los_Angeles:20240110T183000
DTSTAMP:20260422T143512
CREATED:20240104T201411Z
LAST-MODIFIED:20240104T201501Z
UID:1885692-1704907800-1704911400@ramayogainstitute.com
SUMMARY:BEAM| Kundalini Yoga & Meditation with Jen Saltiel
DESCRIPTION:TUNE IN\nJen Saltiel has been practicing and working with the Kundalini Yoga technology since 2012. As a devout student of Guru Jagat’s and member of RA MA Institute Global team\, she has a deep connection with the teachings and genuine love and desire to deliver them to the world. Her classes are clear\, uplifting\, rhythmic\, and meditative.Enhance your pranic capacity and mental strength to stay steady\, solid\, and well positioned for your highest destiny and ultimate fulfillment.
URL:https://ramayogainstitute.com/event/beam-kundalini-yoga-meditation-with-jen-saltiel-15/2024-01-10/
LOCATION:Online
CATEGORIES:In Person,RA MA TV Live
ATTACH;FMTTYPE=image/jpeg:https://ramayogainstitute.com/wp-content/uploads/2022/06/Jen-Saltiel-Vimeo-Thumbnail.jpg
END:VEVENT
END:VCALENDAR