BEGIN:VCALENDAR
VERSION:2.0
PRODID:-//RA MA LIFE - ECPv6.15.15//NONSGML v1.0//EN
CALSCALE:GREGORIAN
METHOD:PUBLISH
X-ORIGINAL-URL:https://ramayogainstitute.com
X-WR-CALDESC:Events for RA MA LIFE
REFRESH-INTERVAL;VALUE=DURATION:PT1H
X-Robots-Tag:noindex
X-PUBLISHED-TTL:PT1H
BEGIN:VTIMEZONE
TZID:America/Los_Angeles
BEGIN:DAYLIGHT
TZOFFSETFROM:-0800
TZOFFSETTO:-0700
TZNAME:PDT
DTSTART:20230312T100000
END:DAYLIGHT
BEGIN:STANDARD
TZOFFSETFROM:-0700
TZOFFSETTO:-0800
TZNAME:PST
DTSTART:20231105T090000
END:STANDARD
BEGIN:DAYLIGHT
TZOFFSETFROM:-0800
TZOFFSETTO:-0700
TZNAME:PDT
DTSTART:20240310T100000
END:DAYLIGHT
BEGIN:STANDARD
TZOFFSETFROM:-0700
TZOFFSETTO:-0800
TZNAME:PST
DTSTART:20241103T090000
END:STANDARD
BEGIN:DAYLIGHT
TZOFFSETFROM:-0800
TZOFFSETTO:-0700
TZNAME:PDT
DTSTART:20250309T100000
END:DAYLIGHT
BEGIN:STANDARD
TZOFFSETFROM:-0700
TZOFFSETTO:-0800
TZNAME:PST
DTSTART:20251102T090000
END:STANDARD
END:VTIMEZONE
BEGIN:VEVENT
DTSTART;TZID=America/Los_Angeles:20240109T070000
DTEND;TZID=America/Los_Angeles:20240109T080000
DTSTAMP:20260422T093733
CREATED:20240104T204730Z
LAST-MODIFIED:20240104T211436Z
UID:1885727-1704783600-1704787200@ramayogainstitute.com
SUMMARY:AWAKEN| Kundalini Power Hour with Kim Krans
DESCRIPTION:TUNE IN\nKim Krans is a visionary artist\, author\, and creator of The New York Times bestseller THE WILD UNKNOWN TAROT. \nKim received her BFA in drawing at Cooper Union in NYC\, MFA in mixed media at Hunter College\, and an MA in depth psychology and creativity at Pacifica Graduate Institute in California. Her seeker’s heart has brought her to study in-depth practices of Classical Hatha\, Kundalini yoga\, and shamanism in India\, Africa\, Europe\, and the UK. \nKim teaches events and workshops that activate the forces of creativity and radical transformation through art\, meditation\, mysticism\, and movement. Though revered for her drawings and publications\, Krans is also a multi-media artist\, filmmaker\, and musician.
URL:https://ramayogainstitute.com/event/awaken-kundalini-power-hour-with-kim-krans/2024-01-09/
LOCATION:Online
CATEGORIES:In Person,RA MA TV Live
ATTACH;FMTTYPE=image/jpeg:https://ramayogainstitute.com/wp-content/uploads/2023/05/NewMoon_KimKrans_Header.jpg
END:VEVENT
END:VCALENDAR